Workbook

Sheet Reduceret tilslutningsbidrag
A1: Værdiopgørelse ved overtagelse af Vestre Vandværk Hedehusene A.M.B.A.
F3: Ejendomme tilsluttet Vestre Vandværk Hedehusene
A4: Pristalsreguleret nedskrevet standardværdi i POLKA pr. 31.12.2009 fratrukket afskrivninger 2010-2026 (excl. moms) | F4: ='Historiske invest. jf. POLKA'!U8 -> 461837.27
A5: Pristalsreguleret nedskrevne investeringer 2010-2026 (excl. moms) | F5: 160148.87
A6: Samlet pristalsreguleret nedskrevet anlægsværdi (excl. moms) | F6: =SUM(F4:F5) -> 621986.13
A10: Tilslutningsbidrag jf. takstblad (excl. moms) | E10: Antal ejendomme | F10: Hovedanlæg- og for-syningsledningsbidrag 2026 | G10: Stikledningsbidrag ifm. byggemodning 2026 | H10: Samlet tilslutningsbidrag 2026
A11: Tilsluttede enfamiliebolig | E11: 187 | F11: =E11*(2800+18132) -> 3914284 | G11: =E11*7657 -> 1431859 | H11: =F11+G11 -> 5346143
A12: Tilsluttede beboelse med flere husstande, erhverv og institutioner ø40 | E12: 0 | F12: =E12*1.6*17264 -> 0 | G12: =E12*6315 -> 0 | H12: =F12+G12 -> 0
A13: Tilsluttede beboelse med flere husstande, erhverv og institutioner ø50 | E13: 0 | F13: =E13*2.4*17264 -> 0 | G13: =E13*6315 -> 0 | H13: =F13+G13 -> 0
A14: Tilsluttede beboelse med flere husstande, erhverv og institutioner ø63 | E14: 0 | F14: =E14*3.9*17264 -> 0 | G14: =E14*6315 -> 0 | H14: =F14+G14 -> 0
A15: Tilsluttede beboelse med flere husstande, erhverv og institutioner ø75 | E15: 0 | F15: =E15*5.5*17264 -> 0 | G15: =E15*11365 -> 0 | H15: =F15+G15 -> 0
A16: Samlet tilsluttede ejendomme | E16: =SUM(E11:E15) -> 187 | F16: =SUM(F11:F15) -> 3914284 | G16: =SUM(G11:G15) -> 1431859 | H16: =SUM(H11:H15) -> 5346143
A17: Samlet pristalsreguleret nedskrevet anlægsværdi | H17: =F6 -> 621986.13
A18: Reduceret tilslutningsbidrag (excl. moms) | H18: =H16-H17 -> 4724156.9
A19: Reduceret tilslutningsbidrag (incl. moms) | H19: =H18*1.25 -> 5905196.1

Sheet Historiske invest. jf. POLKA
A1: Historiekse investeringer jf. POLKA med pristalsregulering (excl. moms)
A4: Kathrineberg Vandværk | B4: POLKA | C4: Afskrivninger | T4: Samlede | U4: Nedskrevet
C5: 2010 | D5: 2011 | E5: 2012 | F5: 2013 | G5: 2014 | H5: 2015 | I5: 2016 | J5: 2017 | K5: 2018 | L5: 2019 | M5: 2020 | N5: 2021 | O5: 2022 | P5: 2023 | Q5: 2024 | R5: 2025 | S5: 2026 | T5: afskrivninger | U5: POLKA
A6: Historiske investeringer (2009-niveau) | B6: 539125 | C6: 11824 | D6: 11824 | E6: 11824 | F6: 11824 | G6: 11824 | H6: 11824 | I6: 11824 | J6: 11824 | K6: 11824 | L6: 11824 | M6: 11824 | N6: 11824 | O6: 11824 | P6: 11824 | Q6: 11824 | R6: 11824 | S6: 11824 | T6: =SUM(C6:S6) -> 201008 | U6: =B6-T6 -> 338117
A7: Historiske investeringer (2009-niveau) med områdetillæg | B7: 559072 | C7: 12262 | D7: 12262 | E7: 12262 | F7: 12262 | G7: 12262 | H7: 12262 | I7: 12262 | J7: 12262 | K7: 12262 | L7: 12262 | M7: 12262 | N7: 12262 | O7: 12262 | P7: 12262 | Q7: 12262 | R7: 12262 | S7: 12262 | T7: =SUM(C7:S7) -> 208454 | U7: =B7-T7 -> 350618
A8: Pristalsreguleret investeringer | B8: =B7*Pristalsregulsering!C4*Pristalsregulsering!C5*Pristalsregulsering!C6*Pristalsregulsering!C7*Pristalsregulsering!C8*Pristalsregulsering!C9*Pristalsregulsering!C10*Pristalsregulsering!C11*Pristalsregulsering!C12*Pristalsregulsering!C13*Pristalsregulsering!C14*Pristalsregulsering!C15*Pristalsregulsering!C16*Pristalsregulsering!C17*Pristalsregulsering!C18 -> 736414.8 | C8: =C7*Pristalsregulsering!C4*Pristalsregulsering!C5*Pristalsregulsering!C6*Pristalsregulsering!C7*Pristalsregulsering!C8*Pristalsregulsering!C9*Pristalsregulsering!C10*Pristalsregulsering!C11*Pristalsregulsering!C12*Pristalsregulsering!C13*Pristalsregulsering!C14*Pristalsregulsering!C15*Pristalsregulsering!C16*Pristalsregulsering!C17*Pristalsregulsering!C18 -> 16151.62 | D8: 16151.62 | E8: 16151.62 | F8: 16151.62 | G8: 16151.62 | H8: 16151.62 | I8: 16151.62 | J8: 16151.62 | K8: 16151.62 | L8: 16151.62 | M8: 16151.62 | N8: 16151.62 | O8: 16151.62 | P8: 16151.62 | Q8: 16151.62 | R8: 16151.62 | S8: 16151.62 | T8: =SUM(C8:S8) -> 274577.53 | U8: =B8-T8 -> 461837.27

Sheet Gennemf. invest. 2010-2024
A1: Gennemførte investeringer 2010-2021 med pristalsregulering (excl. moms)
E3: 2010 | F3: 2011 | G3: 2012 | H3: 2013 | I3: 2014 | J3: 2015 | K3: 2016 | L3: 2017 | M3: 2018 | N3: 2019 | O3: 2020 | P3: 2021 | Q3: 2022 | R3: 2023 | S3: 2024 | T3: 2025 | U3: 2026
D4: Afskrivning
A6: 2017 | B6: Anskaffelesesum | C6: Pristalsreguleret | D6: Levetid
A7: Afregningsmålere, mekaniske | B7: =793+596 -> 1389 | C7: =B7*Pristalsregulsering!C12*Pristalsregulsering!C13*Pristalsregulsering!C14*Pristalsregulsering!C15*Pristalsregulsering!C16*Pristalsregulsering!C17*Pristalsregulsering!C18*Pristalsregulsering!C19*Pristalsregulsering!C20 -> 1894.003 | D7: 8 | L7: =C7/D7 -> 236.75038 | M7: =C7/D7 -> 236.75038 | N7: =C7/D7 -> 236.75038 | O7: =C7/D7 -> 236.75038 | P7: =C7/D7 -> 236.75038 | Q7: =C7/D7 -> 236.75038 | R7: =C7/D7 -> 236.75038 | S7: =C7/D7 -> 236.75038 | T7: 0 | U7: 0
A8: Ledningsnet, stik og ventiler | B8: 0 | C8: =B8*Pristalsregulsering!C12*Pristalsregulsering!C13*Pristalsregulsering!C14*Pristalsregulsering!C15*Pristalsregulsering!C16*Pristalsregulsering!C17*Pristalsregulsering!C18*Pristalsregulsering!C19*Pristalsregulsering!C20 -> 0 | D8: 75 | L8: =C8/D8 -> 0 | M8: =C8/D8 -> 0 | N8: =C8/D8 -> 0 | O8: =C8/D8 -> 0 | P8: =C8/D8 -> 0 | Q8: =C8/D8 -> 0 | R8: =C8/D8 -> 0 | S8: =C8/D8 -> 0 | T8: =C8/D8 -> 0 | U8: =C8/D8 -> 0
B9: =SUM(B7) -> 1389 | C9: =SUM(C7) -> 1894.003 | L9: =SUM(L7:L8) -> 236.75038 | M9: =SUM(M7:M8) -> 236.75038 | N9: =SUM(N7:N8) -> 236.75038 | O9: =SUM(O7:O8) -> 236.75038 | P9: =SUM(P7:P8) -> 236.75038 | Q9: =SUM(Q7:Q8) -> 236.75038 | R9: =SUM(R7:R8) -> 236.75038 | S9: =SUM(S7:S8) -> 236.75038 | ... U9: =SUM(U7:U8) -> 0
A11: 2018 | B11: Anskaffelesesum | C11: Pristalsreguleret | D11: Levetid
A12: Afregningsmålere, mekaniske | B12: 650 | C12: =B12*Pristalsregulsering!C13*Pristalsregulsering!C14*Pristalsregulsering!C15*Pristalsregulsering!C16*Pristalsregulsering!C17*Pristalsregulsering!C18*Pristalsregulsering!C19*Pristalsregulsering!C20 -> 871.07864 | D12: 8 | M12: =C12/D12 -> 108.88483 | N12: =C12/D12 -> 108.88483 | O12: =C12/D12 -> 108.88483 | P12: =C12/D12 -> 108.88483 | Q12: =C12/D12 -> 108.88483 | R12: =C12/D12 -> 108.88483 | S12: =C12/D12 -> 108.88483 | T12: =C12/D12 -> 108.88483 | U12: 0
A13: Ledningsnet, stik og ventiler | B13: 135484 | C13: =B13*Pristalsregulsering!C13*Pristalsregulsering!C14*Pristalsregulsering!C15*Pristalsregulsering!C16*Pristalsregulsering!C17*Pristalsregulsering!C18*Pristalsregulsering!C19*Pristalsregulsering!C20 -> 181564.95 | D13: 75 | M13: =C13/D13 -> 2420.866 | N13: =C13/D13 -> 2420.866 | O13: =C13/D13 -> 2420.866 | P13: =C13/D13 -> 2420.866 | Q13: =C13/D13 -> 2420.866 | R13: =C13/D13 -> 2420.866 | S13: =C13/D13 -> 2420.866 | T13: =C13/D13 -> 2420.866 | U13: =C13/D13 -> 2420.866
B14: =SUM(B12:B13) -> 136134 | C14: =SUM(C12:C13) -> 182436.03 | M14: =SUM(M12:M13) -> 2529.7509 | N14: =SUM(N12:N13) -> 2529.7509 | O14: =SUM(O12:O13) -> 2529.7509 | P14: =SUM(P12:P13) -> 2529.7509 | Q14: =SUM(Q12:Q13) -> 2529.7509 | R14: =SUM(R12:R13) -> 2529.7509 | S14: =SUM(S12:S13) -> 2529.7509 | T14: =SUM(T12:T13) -> 2529.7509 | U14: =SUM(U12:U13) -> 2420.866
A16: 2019 | B16: Anskaffelesesum | C16: Pristalsreguleret | D16: Levetid
A17: Afregningsmålere, mekaniske | B17: 659 | C17: =B17*Pristalsregulsering!C14*Pristalsregulsering!C15*Pristalsregulsering!C16*Pristalsregulsering!C17*Pristalsregulsering!C18*Pristalsregulsering!C19*Pristalsregulsering!C20 -> 868.46271 | D17: 8 | N17: =C17/D17 -> 108.55784 | O17: =C17/D17 -> 108.55784 | P17: =C17/D17 -> 108.55784 | Q17: =C17/D17 -> 108.55784 | R17: =C17/D17 -> 108.55784 | S17: =C17/D17 -> 108.55784 | T17: =C17/D17 -> 108.55784 | U17: =C17/D17 -> 108.55784
A18: Ledningsnet, stik og ventiler | B18: 0 | C18: =B18*Pristalsregulsering!C14*Pristalsregulsering!C15*Pristalsregulsering!C16*Pristalsregulsering!C17*Pristalsregulsering!C18*Pristalsregulsering!C19*Pristalsregulsering!C20 -> 0 | D18: 75 | N18: =C18/D18 -> 0 | O18: =C18/D18 -> 0 | P18: =C18/D18 -> 0 | Q18: =C18/D18 -> 0 | R18: =C18/D18 -> 0 | S18: =C18/D18 -> 0 | T18: =C18/D18 -> 0 | U18: =C18/D18 -> 0
B19: =SUM(B17:B18) -> 659 | C19: =SUM(C17:C18) -> 868.46271 | N19: =SUM(N17:N18) -> 108.55784 | O19: =SUM(O17:O18) -> 108.55784 | P19: =SUM(P17:P18) -> 108.55784 | Q19: =SUM(Q17:Q18) -> 108.55784 | R19: =SUM(R17:R18) -> 108.55784 | S19: =SUM(S17:S18) -> 108.55784 | T19: =SUM(T17:T18) -> 108.55784 | U19: =SUM(U17:U18) -> 108.55784
A21: 2020 | B21: Anskaffelesesum | C21: Pristalsreguleret | D21: Levetid
A22: Afregningsmålere, mekaniske | B22: 0 | C22: =B22*Pristalsregulsering!C15*Pristalsregulsering!C16*Pristalsregulsering!C17*Pristalsregulsering!C18*Pristalsregulsering!C19*Pristalsregulsering!C20 -> 0 | D22: 8 | O22: =C22/D22 -> 0 | P22: =C22/D22 -> 0 | Q22: =C22/D22 -> 0 | R22: =C22/D22 -> 0 | S22: =C22/D22 -> 0 | T22: =C22/D22 -> 0 | U22: =C22/D22 -> 0
A23: Ledningsnet, stik og ventiler | B23: 0 | C23: =B23*Pristalsregulsering!C15*Pristalsregulsering!C16*Pristalsregulsering!C17*Pristalsregulsering!C18*Pristalsregulsering!C19*Pristalsregulsering!C20 -> 0 | D23: 75 | O23: =C23/D23 -> 0 | P23: =C23/D23 -> 0 | Q23: =C23/D23 -> 0 | R23: =C23/D23 -> 0 | S23: =C23/D23 -> 0 | T23: =C23/D23 -> 0 | U23: =C23/D23 -> 0
B24: =SUM(B22:B23) -> 0 | C24: =SUM(C22:C23) -> 0 | O24: =SUM(O22:O23) -> 0 | P24: =SUM(P22:P23) -> 0 | Q24: =SUM(Q22:Q23) -> 0 | R24: =SUM(R22:R23) -> 0 | S24: =SUM(S22:S23) -> 0 | T24: =SUM(T22:T23) -> 0 | U24: =SUM(U22:U23) -> 0
A26: 2021 | B26: Anskaffelesesum | C26: Pristalsreguleret | D26: Levetid
A27: Afregningsmålere, mekaniske | B27: =809+355.5 -> 1164.5 | C27: =B27*Pristalsregulsering!C16*Pristalsregulsering!C17*Pristalsregulsering!C18*Pristalsregulsering!C19*Pristalsregulsering!C20 -> 1486.8478 | D27: 8 | P27: =C27/D27 -> 185.85597 | Q27: =C27/D27 -> 185.85597 | R27: =C27/D27 -> 185.85597 | S27: =C27/D27 -> 185.85597 | T27: =C27/D27 -> 185.85597 | U27: =C27/D27 -> 185.85597
A28: Ledningsnet, stik og ventiler | B28: 0 | C28: =B28*Pristalsregulsering!C16*Pristalsregulsering!C17*Pristalsregulsering!C18*Pristalsregulsering!C19*Pristalsregulsering!C20 -> 0 | D28: 75 | P28: =C28/D28 -> 0 | Q28: =C28/D28 -> 0 | R28: =C28/D28 -> 0 | S28: =C28/D28 -> 0 | T28: =C28/D28 -> 0 | U28: =C28/D28 -> 0
B29: =SUM(B27:B28) -> 1164.5 | C29: =SUM(C27:C28) -> 1486.8478 | P29: =SUM(P27:P28) -> 185.85597 | Q29: =SUM(Q27:Q28) -> 185.85597 | R29: =SUM(R27:R28) -> 185.85597 | S29: =SUM(S27:S28) -> 185.85597 | T29: =SUM(T27:T28) -> 185.85597 | U29: =SUM(U27:U28) -> 185.85597
A31: 2022 | B31: Anskaffelesesum | C31: Pristalsreguleret | D31: Levetid
A32: Afregningsmålere, mekaniske | B32: 0 | C32: =B32*Pristalsregulsering!C17*Pristalsregulsering!C18*Pristalsregulsering!C19*Pristalsregulsering!C20 -> 0 | D32: 8 | Q32: =C32/D32 -> 0 | R32: =C32/D32 -> 0 | S32: =C32/D32 -> 0 | T32: =C32/D32 -> 0 | U32: =C32/D32 -> 0
A33: Ledningsnet, stik og ventiler | B33: 0 | C33: =B33*Pristalsregulsering!C17*Pristalsregulsering!C18*Pristalsregulsering!C19*Pristalsregulsering!C20 -> 0 | D33: 75 | Q33: =C33/D33 -> 0 | R33: =C33/D33 -> 0 | S33: =C33/D33 -> 0 | T33: =C33/D33 -> 0 | U33: =C33/D33 -> 0
B34: =SUM(B32:B33) -> 0 | C34: =SUM(C32:C33) -> 0 | Q34: =SUM(Q32:Q33) -> 0 | R34: =SUM(R32:R33) -> 0 | S34: =SUM(S32:S33) -> 0 | T34: =SUM(T32:T33) -> 0 | U34: =SUM(U32:U33) -> 0
A36: 2023 | B36: Anskaffelesesum | C36: Pristalsreguleret | D36: Levetid
A37: Afregningsmålere, mekaniske | B37: 0 | C37: =B37*Pristalsregulsering!C18*Pristalsregulsering!C19*Pristalsregulsering!C20 -> 0 | D37: 8 | R37: =C37/D37 -> 0 | S37: =C37/D37 -> 0 | T37: =C37/D37 -> 0 | U37: =C37/D37 -> 0
A38: Ledningsnet, stik og ventiler | B38: 0 | C38: =B38*Pristalsregulsering!C18*Pristalsregulsering!C19*Pristalsregulsering!C20 -> 0 | D38: 75 | R38: =C38/D38 -> 0 | S38: =C38/D38 -> 0 | T38: =C38/D38 -> 0 | U38: =C38/D38 -> 0
B39: =SUM(B37:B38) -> 0 | C39: =SUM(C37:C38) -> 0 | R39: =SUM(R37:R38) -> 0 | S39: =SUM(S37:S38) -> 0 | T39: =SUM(T37:T38) -> 0 | U39: =SUM(U37:U38) -> 0
A41: 2024 | B41: Anskaffelesesum | C41: Pristalsreguleret | D41: Levetid
A42: Afregningsmålere, mekaniske | B42: 0 | C42: =B42*Pristalsregulsering!C19*Pristalsregulsering!C20 -> 0 | D42: 8 | S42: =C42/D42 -> 0 | T42: =C42/D42 -> 0 | U42: =C42/D42 -> 0
A43: Ledningsnet, stik og ventiler | B43: 0 | C43: =B43*Pristalsregulsering!C19*Pristalsregulsering!C20 -> 0 | D43: 75 | S43: =C43/D43 -> 0 | T43: =C43/D43 -> 0 | U43: =C43/D43 -> 0
B44: =SUM(B42:B43) -> 0 | C44: =SUM(C42:C43) -> 0 | S44: =SUM(S42:S43) -> 0 | T44: =SUM(T42:T43) -> 0 | U44: =SUM(U42:U43) -> 0
A46: 2025 | B46: Anskaffelesesum | C46: Pristalsreguleret | D46: Levetid
A47: Afregningsmålere, mekaniske | B47: 0 | C47: =B47*Pristalsregulsering!C20 -> 0 | D47: 8 | T47: =C47/D47 -> 0 | U47: =C47/D47 -> 0
A48: Ledningsnet, stik og ventiler | B48: 0 | C48: =B48*Pristalsregulsering!C20 -> 0 | D48: 75 | T48: =C48/D48 -> 0 | U48: =C48/D48 -> 0
B49: =SUM(B47:B48) -> 0 | C49: =SUM(C47:C48) -> 0 | T49: =SUM(T47:T48) -> 0 | U49: =SUM(U47:U48) -> 0
A51: 2026 | B51: Anskaffelesesum | C51: Pristalsreguleret | D51: Levetid
...

Sheet Pristalsregulsering
A1: Pristalsregulering 2010-2021
E2: Summeret prisudvikling
A3: År | B3: Prisudvikling | C3: Prisudvikling + 1 | E3: 1
A4: 2009-2010 | B4: 0.0111 | C4: =1+B4 -> 1.0111 | E4: =E3*C4 -> 1.0111
A5: 2010-2011 | B5: 0.005 | C5: =1+B5 -> 1.005 | E5: =E4*C5 -> 1.0161555
A6: 2011-2012 | B6: 0.023 | C6: =1+B6 -> 1.023 | E6: =E5*C6 -> 1.0395271
A7: 2012-2013 | B7: 0.031 | C7: =1+B7 -> 1.031 | E7: =E6*C7 -> 1.0717524
A8: 2013-2014 | B8: 0.015 | C8: =1+B8 -> 1.015 | E8: =E7*C8 -> 1.0878287
A9: 2014-2015 | B9: 0.0008 | C9: =1+B9 -> 1.0008 | E9: =E8*C9 -> 1.088699
A10: 2015-2016 | B10: -0.0038 | C10: =1+B10 -> 0.9962 | E10: =E9*C10 -> 1.0845619
A11: 2016-2017 | B11: 0.0127 | C11: =1+B11 -> 1.0127 | E11: =E10*C11 -> 1.0983358
A12: 2017-2018 | B12: 0.0175 | C12: =1+B12 -> 1.0175 | E12: =E11*C12 -> 1.1175567
A13: 2018-2019 | B13: 0.0169 | C13: =1+B13 -> 1.0169 | E13: =E12*C13 -> 1.1364434
A14: 2019-2020 | B14: 0.0197 | C14: =1+B14 -> 1.0197 | E14: =E13*C14 -> 1.1588314
A15: 2020-2021 | B15: 0.0122 | C15: =1+B15 -> 1.0122 | E15: =E14*C15 -> 1.1729691
... A20: 2025-2026 | B20: 0.0663 | C20: =1+B20 -> 1.0663 | E20: =E19*C20 -> 1.4976612
